BEGIN:VCALENDAR
VERSION:2.0
PRODID:-//South Seminole Farm and Nursery - ECPv6.15.20//NONSGML v1.0//EN
CALSCALE:GREGORIAN
METHOD:PUBLISH
X-WR-CALNAME:South Seminole Farm and Nursery
X-ORIGINAL-URL:https://sseminolefarmandnursery.com
X-WR-CALDESC:Events for South Seminole Farm and Nursery
REFRESH-INTERVAL;VALUE=DURATION:PT1H
X-Robots-Tag:noindex
X-PUBLISHED-TTL:PT1H
BEGIN:VTIMEZONE
TZID:America/New_York
BEGIN:DAYLIGHT
TZOFFSETFROM:-0500
TZOFFSETTO:-0400
TZNAME:EDT
DTSTART:20240310T070000
END:DAYLIGHT
BEGIN:STANDARD
TZOFFSETFROM:-0400
TZOFFSETTO:-0500
TZNAME:EST
DTSTART:20241103T060000
END:STANDARD
BEGIN:DAYLIGHT
TZOFFSETFROM:-0500
TZOFFSETTO:-0400
TZNAME:EDT
DTSTART:20250309T070000
END:DAYLIGHT
BEGIN:STANDARD
TZOFFSETFROM:-0400
TZOFFSETTO:-0500
TZNAME:EST
DTSTART:20251102T060000
END:STANDARD
BEGIN:DAYLIGHT
TZOFFSETFROM:-0500
TZOFFSETTO:-0400
TZNAME:EDT
DTSTART:20260308T070000
END:DAYLIGHT
BEGIN:STANDARD
TZOFFSETFROM:-0400
TZOFFSETTO:-0500
TZNAME:EST
DTSTART:20261101T060000
END:STANDARD
END:VTIMEZONE
BEGIN:VEVENT
DTSTART;TZID=America/New_York:20250927T050000
DTEND;TZID=America/New_York:20250927T060000
DTSTAMP:20260419T043905
CREATED:20250705T153355Z
LAST-MODIFIED:20250705T193331Z
UID:32116-1758949200-1758952800@sseminolefarmandnursery.com
SUMMARY:Central Florida Trees with Jim Hunter
DESCRIPTION:Learn about what trees do well in our central Florida area.  What tree grows fast\, which looses itâ€™s leaves\, and which ones flower?  Ask questions about trees you are interested in and may have in your yard.
URL:https://sseminolefarmandnursery.com/event/central-florida-trees-with-jim-hunter-2/
LOCATION:South Seminole Farm and Nursery\, 2010 Lake Drive\, Casselberry\, FL\, 32707\, United States
CATEGORIES:Gardening Classes,Jim Hunter,Landscaping,Native Central Florida Plants,Trees
ATTACH;FMTTYPE=image/jpeg:https://sseminolefarmandnursery.com/wp-content/uploads/2017/08/central-florida-trees.jpg
ORGANIZER;CN="South Seminole Farm and Nursery":MAILTO:info@sseminolefarmandnursery.com
END:VEVENT
END:VCALENDAR